BEGIN:VCALENDAR
VERSION:2.0
PRODID:-//www.arcnbc.org//NONSGML kigkonsult.se iCalcreator 2.30.10//
CALSCALE:GREGORIAN
METHOD:PUBLISH
UID:80ea7d37-ee50-4891-9883-09d624eb024c
X-WR-CALDESC:
X-WR-RELCALID:3b5764d115e82ff998f12ce3b6fab0ec
X-WR-TIMEZONE:America/New_York
BEGIN:VTIMEZONE
TZID:America/New_York
BEGIN:STANDARD
TZNAME:EST
DTSTART:20171105T020000
TZOFFSETFROM:-0400
TZOFFSETTO:-0500
RDATE:20181104T020000
RDATE:20191103T020000
END:STANDARD
BEGIN:DAYLIGHT
TZNAME:EDT
DTSTART:20180311T020000
TZOFFSETFROM:-0500
TZOFFSETTO:-0400
RDATE:20190310T020000
RDATE:20200308T020000
END:DAYLIGHT
END:VTIMEZONE
BEGIN:VEVENT
UID:2453c6b6-b971-4e2b-a7f8-4ff0293f56b8
DTSTAMP:20260423T133502Z
DESCRIPTION:
DTSTART;TZID=America/New_York:20181025T090000
DTEND;TZID=America/New_York:20181025T160000
LOCATION:Attleboro office
SUMMARY:First Aid/CPR\, Attleboro office
END:VEVENT
END:VCALENDAR
