BEGIN:VCALENDAR
VERSION:2.0
PRODID:-//www.arcnbc.org//NONSGML kigkonsult.se iCalcreator 2.30.10//
CALSCALE:GREGORIAN
METHOD:PUBLISH
UID:21de7f57-c450-40cb-bf2c-32765f2870c7
X-WR-CALDESC:We will board the The Newport Dinner train and solve a who-dun
 nit\,  while enjoying dinner and the ride. I added the link below.
X-WR-RELCALID:e83df73285d810c01f1a5f47bc5a582c
X-WR-TIMEZONE:America/New_York
BEGIN:VTIMEZONE
TZID:America/New_York
BEGIN:STANDARD
TZNAME:EST
DTSTART:20171105T020000
TZOFFSETFROM:-0400
TZOFFSETTO:-0500
RDATE:20181104T020000
RDATE:20191103T020000
END:STANDARD
BEGIN:DAYLIGHT
TZNAME:EDT
DTSTART:20180311T020000
TZOFFSETFROM:-0500
TZOFFSETTO:-0400
RDATE:20190310T020000
RDATE:20200308T020000
END:DAYLIGHT
END:VTIMEZONE
BEGIN:VEVENT
UID:302b7f45-3b9b-4be6-877a-c2f9d0bfb0ac
DTSTAMP:20260423T134043Z
DESCRIPTION:We will board the The Newport Dinner train and solve a who-dunn
 it\,  while enjoying dinner and the ride. I added the link below.
DTSTART;TZID=America/New_York:20181026T183000
DTEND;TZID=America/New_York:20181026T220000
LOCATION:Newport\, RI
SUMMARY:Murder Mystery Dinner on The Newport Dinner Train
END:VEVENT
END:VCALENDAR
