BEGIN:VCALENDAR
VERSION:2.0
PRODID:-//www.arcnbc.org//NONSGML kigkonsult.se iCalcreator 2.30.10//
CALSCALE:GREGORIAN
METHOD:PUBLISH
UID:49b18e50-ad1d-4ef6-8270-ea61984432b5
X-WR-CALDESC:We will head to Round 1 for a night of karaoke\, games\, and d
 inner with friends.
X-WR-RELCALID:f364b9b4a51cd38df938e26202db9bed
X-WR-TIMEZONE:America/New_York
BEGIN:VTIMEZONE
TZID:America/New_York
BEGIN:STANDARD
TZNAME:EST
DTSTART:20171105T020000
TZOFFSETFROM:-0400
TZOFFSETTO:-0500
RDATE:20181104T020000
RDATE:20191103T020000
END:STANDARD
BEGIN:DAYLIGHT
TZNAME:EDT
DTSTART:20180311T020000
TZOFFSETFROM:-0500
TZOFFSETTO:-0400
RDATE:20190310T020000
RDATE:20200308T020000
END:DAYLIGHT
END:VTIMEZONE
BEGIN:VEVENT
UID:ec3608f9-02c5-4d6e-952e-ec2cb2c364e2
DTSTAMP:20260423T133347Z
DESCRIPTION:We will head to Round 1 for a night of karaoke\, games\, and di
 nner with friends.
DTSTART;TZID=America/New_York:20181029T163000
DTEND;TZID=America/New_York:20181029T213000
LOCATION:Silver City Galleria Round 1
SUMMARY:Karaoke\, Games and Dinner
END:VEVENT
END:VCALENDAR
