BEGIN:VCALENDAR
VERSION:2.0
PRODID:-//www.arcnbc.org//NONSGML kigkonsult.se iCalcreator 2.30.10//
CALSCALE:GREGORIAN
METHOD:PUBLISH
UID:dee489a3-7e59-45b1-8083-eb9436f9c47c
X-WR-CALDESC:$5.00 at the door.  Drop off and pick-up at East Providence La
 nes.\n
X-WR-RELCALID:ab8eecbaa77e67a4e12d99b448e35882
X-WR-TIMEZONE:America/New_York
BEGIN:VTIMEZONE
TZID:America/New_York
BEGIN:STANDARD
TZNAME:EST
DTSTART:20171105T020000
TZOFFSETFROM:-0400
TZOFFSETTO:-0500
RDATE:20181104T020000
RDATE:20191103T020000
END:STANDARD
BEGIN:DAYLIGHT
TZNAME:EDT
DTSTART:20180311T020000
TZOFFSETFROM:-0500
TZOFFSETTO:-0400
RDATE:20190310T020000
RDATE:20200308T020000
END:DAYLIGHT
END:VTIMEZONE
BEGIN:VEVENT
UID:9ce86ebb-088c-4a5e-a32f-7608acebbaed
DTSTAMP:20260423T133642Z
DESCRIPTION:$5.00 at the door.  Drop off and pick-up at East Providence Lan
 es.\n
DTSTART;TZID=America/New_York:20181030T180000
DTEND;TZID=America/New_York:20181030T200000
LOCATION:East Providence Lanes
SUMMARY:Bowling
END:VEVENT
END:VCALENDAR
