BEGIN:VCALENDAR
VERSION:2.0
PRODID:-//www.arcnbc.org//NONSGML kigkonsult.se iCalcreator 2.30.10//
CALSCALE:GREGORIAN
METHOD:PUBLISH
UID:d299059d-aa6d-4dda-bfad-66817c4846c9
X-WR-CALDESC:Join us for this annual fundraiser to benefit The Arc and proA
 bility. Raffles\, silent and live auctions. Best Harvest Cocktail Attire. 
 Tickets $30 per person.
X-WR-RELCALID:3e15195aece0a75e17fcc9f67cf886cb
X-WR-TIMEZONE:America/New_York
BEGIN:VTIMEZONE
TZID:America/New_York
BEGIN:STANDARD
TZNAME:EST
DTSTART:20171105T020000
TZOFFSETFROM:-0400
TZOFFSETTO:-0500
RDATE:20181104T020000
RDATE:20191103T020000
END:STANDARD
BEGIN:DAYLIGHT
TZNAME:EDT
DTSTART:20180311T020000
TZOFFSETFROM:-0500
TZOFFSETTO:-0400
RDATE:20190310T020000
RDATE:20200308T020000
END:DAYLIGHT
END:VTIMEZONE
BEGIN:VEVENT
UID:57658837-c0ae-45f5-9b0d-0dd9502ef733
DTSTAMP:20260423T134041Z
DESCRIPTION:Join us for this annual fundraiser to benefit The Arc and proAb
 ility. Raffles\, silent and live auctions. Best Harvest Cocktail Attire. T
 ickets $30 per person.
DTSTART;TZID=America/New_York:20181103T170000
DTEND;TZID=America/New_York:20181103T210000
LOCATION:Clarion Inn\, Grand Rose Ballroom\, Seekonk\, MA
SUMMARY:Harvest Gala & Charity Auction
END:VEVENT
END:VCALENDAR
