BEGIN:VCALENDAR
VERSION:2.0
PRODID:-//www.arcnbc.org//NONSGML kigkonsult.se iCalcreator 2.30.10//
CALSCALE:GREGORIAN
METHOD:PUBLISH
UID:7629da35-7d8a-48f5-a50e-9c19db2454e3
X-WR-CALDESC:We will hop on board and have a narrated tour through downtown
  Providence.  The tour lasts about an hour.  We will then head for lunch.
X-WR-RELCALID:710b59667a6e1e1a18eceeb4e2fbffbd
X-WR-TIMEZONE:America/New_York
BEGIN:VTIMEZONE
TZID:America/New_York
BEGIN:STANDARD
TZNAME:EST
DTSTART:20171105T020000
TZOFFSETFROM:-0400
TZOFFSETTO:-0500
RDATE:20181104T020000
RDATE:20191103T020000
END:STANDARD
BEGIN:DAYLIGHT
TZNAME:EDT
DTSTART:20180311T020000
TZOFFSETFROM:-0500
TZOFFSETTO:-0400
RDATE:20190310T020000
RDATE:20200308T020000
END:DAYLIGHT
END:VTIMEZONE
BEGIN:VEVENT
UID:017e86ad-c6f3-4c1a-865e-2879a478e17c
DTSTAMP:20260423T133321Z
DESCRIPTION:We will hop on board and have a narrated tour through downtown 
 Providence.  The tour lasts about an hour.  We will then head for lunch.
DTSTART;TZID=America/New_York:20181105T110000
DTEND;TZID=America/New_York:20181105T170000
LOCATION:Providence\, RI
SUMMARY:Providence Boat Tour
END:VEVENT
END:VCALENDAR
