BEGIN:VCALENDAR
VERSION:2.0
PRODID:-//www.arcnbc.org//NONSGML kigkonsult.se iCalcreator 2.30.10//
CALSCALE:GREGORIAN
METHOD:PUBLISH
UID:c95f0163-d05f-4b60-9681-1e30ff93d1ab
X-WR-CALDESC:
X-WR-RELCALID:221d443b1c01254740a90e38a571223b
X-WR-TIMEZONE:America/New_York
BEGIN:VTIMEZONE
TZID:America/New_York
BEGIN:STANDARD
TZNAME:EST
DTSTART:20181104T020000
TZOFFSETFROM:-0400
TZOFFSETTO:-0500
RDATE:20191103T020000
END:STANDARD
BEGIN:DAYLIGHT
TZNAME:EDT
DTSTART:20180311T020000
TZOFFSETFROM:-0500
TZOFFSETTO:-0400
RDATE:20190310T020000
RDATE:20200308T020000
END:DAYLIGHT
END:VTIMEZONE
BEGIN:VEVENT
UID:24040528-7b81-4868-bc50-c584306d6a5f
DTSTAMP:20260423T133501Z
DESCRIPTION:
DTSTART;TZID=America/New_York:20181109T080000
DTEND;TZID=America/New_York:20181109T180000
LOCATION:Bronx\, NY
SUMMARY:The Bronx Zoo
END:VEVENT
END:VCALENDAR
