BEGIN:VCALENDAR
VERSION:2.0
PRODID:-//www.arcnbc.org//NONSGML kigkonsult.se iCalcreator 2.30.10//
CALSCALE:GREGORIAN
METHOD:PUBLISH
UID:8fe4b653-bcdb-46ac-b2dd-c42de03b53ba
X-WR-CALDESC:We will have a lesson in pottery and get create our own master
 piece.  Then lunch with friends.  We will be able to pick up or masterpiec
 es one week following our visit.
X-WR-RELCALID:a4776cdb276e926b232b61f4d3ad1051
X-WR-TIMEZONE:America/New_York
BEGIN:VTIMEZONE
TZID:America/New_York
BEGIN:STANDARD
TZNAME:EST
DTSTART:20181104T020000
TZOFFSETFROM:-0400
TZOFFSETTO:-0500
RDATE:20191103T020000
END:STANDARD
BEGIN:DAYLIGHT
TZNAME:EDT
DTSTART:20180311T020000
TZOFFSETFROM:-0500
TZOFFSETTO:-0400
RDATE:20190310T020000
RDATE:20200308T020000
END:DAYLIGHT
END:VTIMEZONE
BEGIN:VEVENT
UID:db7a7907-edc7-4265-abf5-fbcd4dc69c4e
DTSTAMP:20260423T133621Z
DESCRIPTION:We will have a lesson in pottery and get create our own masterp
 iece.  Then lunch with friends.  We will be able to pick up or masterpiece
 s one week following our visit.
DTSTART;TZID=America/New_York:20181117T103000
DTEND;TZID=America/New_York:20181117T163000
LOCATION:Clay-ground Studios East Greenwich\, RI
SUMMARY:Clay ground Studios Pottery & Lunch
END:VEVENT
END:VCALENDAR
