BEGIN:VCALENDAR
VERSION:2.0
PRODID:-//www.arcnbc.org//NONSGML kigkonsult.se iCalcreator 2.30.10//
CALSCALE:GREGORIAN
METHOD:PUBLISH
UID:ef31a106-8de8-4fe7-bc82-71398c7dd9f4
X-WR-CALDESC:Once monthly Ted and Fran host a dance.  This dance is for the
  people we support as well as people form other agencies providing support
 s for a night of fun.  They usually provide a light snack\,  and there is 
 always a DJ for dancing.  $3.00 at the door.
X-WR-RELCALID:78349c1cb315894b4c1f43fbe6494001
X-WR-TIMEZONE:America/New_York
BEGIN:VTIMEZONE
TZID:America/New_York
BEGIN:STANDARD
TZNAME:EST
DTSTART:20181104T020000
TZOFFSETFROM:-0400
TZOFFSETTO:-0500
RDATE:20191103T020000
END:STANDARD
BEGIN:DAYLIGHT
TZNAME:EDT
DTSTART:20180311T020000
TZOFFSETFROM:-0500
TZOFFSETTO:-0400
RDATE:20190310T020000
RDATE:20200308T020000
END:DAYLIGHT
END:VTIMEZONE
BEGIN:VEVENT
UID:8a0617bf-833c-4c50-b65d-8c0ad2863029
DTSTAMP:20260423T133848Z
DESCRIPTION:Once monthly Ted and Fran host a dance.  This dance is for the 
 people we support as well as people form other agencies providing supports
  for a night of fun.  They usually provide a light snack\,  and there is a
 lways a DJ for dancing.  $3.00 at the door.
DTSTART;TZID=America/New_York:20181122T180000
DTEND;TZID=America/New_York:20181122T210000
LOCATION:PPAC175 School St\, Taunton\, MA 02780
SUMMARY:Fran's Dance
END:VEVENT
END:VCALENDAR
