BEGIN:VCALENDAR
VERSION:2.0
PRODID:-//www.arcnbc.org//NONSGML kigkonsult.se iCalcreator 2.30.10//
CALSCALE:GREGORIAN
METHOD:PUBLISH
UID:825e569e-c5a6-4aa4-a59a-bb4bd53dac79
X-WR-CALDESC:Dinner and a movie in one location.
X-WR-RELCALID:772aceeebb374597ba879606d44a59f1
X-WR-TIMEZONE:America/New_York
BEGIN:VTIMEZONE
TZID:America/New_York
BEGIN:STANDARD
TZNAME:EST
DTSTART:20181104T020000
TZOFFSETFROM:-0400
TZOFFSETTO:-0500
RDATE:20191103T020000
END:STANDARD
BEGIN:DAYLIGHT
TZNAME:EDT
DTSTART:20180311T020000
TZOFFSETFROM:-0500
TZOFFSETTO:-0400
RDATE:20190310T020000
RDATE:20200308T020000
END:DAYLIGHT
END:VTIMEZONE
BEGIN:VEVENT
UID:f03d22ce-ff83-431b-b360-1a94ec6baf76
DTSTAMP:20260423T133641Z
DESCRIPTION:Dinner and a movie in one location.
DTSTART;TZID=America/New_York:20181126T170000
DTEND;TZID=America/New_York:20181126T220000
LOCATION:Attleboro\, MA
SUMMARY:Route 1 Cinema Pub
END:VEVENT
END:VCALENDAR
