BEGIN:VCALENDAR
VERSION:2.0
PRODID:-//www.arcnbc.org//NONSGML kigkonsult.se iCalcreator 2.30.10//
CALSCALE:GREGORIAN
METHOD:PUBLISH
UID:2319dd42-2233-42dd-88d7-6a527fc2c123
X-WR-CALDESC:
X-WR-RELCALID:8076d5e79c9e7d2438b9f0180c4efd17
X-WR-TIMEZONE:America/New_York
BEGIN:VTIMEZONE
TZID:America/New_York
BEGIN:STANDARD
TZNAME:EST
DTSTART:20181104T020000
TZOFFSETFROM:-0400
TZOFFSETTO:-0500
RDATE:20191103T020000
END:STANDARD
BEGIN:DAYLIGHT
TZNAME:EDT
DTSTART:20180311T020000
TZOFFSETFROM:-0500
TZOFFSETTO:-0400
RDATE:20190310T020000
RDATE:20200308T020000
END:DAYLIGHT
END:VTIMEZONE
BEGIN:VEVENT
UID:730892f1-d5d4-4a29-a0a9-c56daa65ab88
DTSTAMP:20260423T133346Z
DESCRIPTION:
DTSTART;TZID=America/New_York:20181128T100000
DTEND;TZID=America/New_York:20181128T160000
LOCATION:Attleboro office
SUMMARY:Orientation\, Attleboro office
END:VEVENT
END:VCALENDAR
