BEGIN:VCALENDAR
VERSION:2.0
PRODID:-//www.arcnbc.org//NONSGML kigkonsult.se iCalcreator 2.30.10//
CALSCALE:GREGORIAN
METHOD:PUBLISH
UID:708a8282-07bb-4c87-97cd-792cbb3bdbfc
X-WR-CALDESC:Games\, play\, fun\, and food!  See link below
X-WR-RELCALID:06567a4f3eb44b0d8977d8c0f3c729a0
X-WR-TIMEZONE:America/New_York
BEGIN:VTIMEZONE
TZID:America/New_York
BEGIN:STANDARD
TZNAME:EST
DTSTART:20181104T020000
TZOFFSETFROM:-0400
TZOFFSETTO:-0500
RDATE:20191103T020000
END:STANDARD
BEGIN:DAYLIGHT
TZNAME:EDT
DTSTART:20180311T020000
TZOFFSETFROM:-0500
TZOFFSETTO:-0400
RDATE:20190310T020000
RDATE:20200308T020000
END:DAYLIGHT
END:VTIMEZONE
BEGIN:VEVENT
UID:b52aa489-bd9a-4fd9-a7c0-044bb46ecf60
DTSTAMP:20260423T133321Z
DESCRIPTION:Games\, play\, fun\, and food!  See link below
DTSTART;TZID=America/New_York:20181130T100000
DTEND;TZID=America/New_York:20181130T170000
LOCATION:Braintree\, MA
SUMMARY:Dave and Buster's
END:VEVENT
END:VCALENDAR
