BEGIN:VCALENDAR
VERSION:2.0
PRODID:-//www.arcnbc.org//NONSGML kigkonsult.se iCalcreator 2.30.10//
CALSCALE:GREGORIAN
METHOD:PUBLISH
UID:50fa9a9e-ae60-4b20-8907-956435b93618
X-WR-CALDESC:Annual Holiday Party sponsored by The Knights of Columbus of S
 outh Attleboro.
X-WR-RELCALID:d034cdf0dc93f1fa75b9e40f312ea02e
X-WR-TIMEZONE:America/New_York
BEGIN:VTIMEZONE
TZID:America/New_York
BEGIN:STANDARD
TZNAME:EST
DTSTART:20181104T020000
TZOFFSETFROM:-0400
TZOFFSETTO:-0500
RDATE:20191103T020000
END:STANDARD
BEGIN:DAYLIGHT
TZNAME:EDT
DTSTART:20180311T020000
TZOFFSETFROM:-0500
TZOFFSETTO:-0400
RDATE:20190310T020000
RDATE:20200308T020000
END:DAYLIGHT
END:VTIMEZONE
BEGIN:VEVENT
UID:454f4a88-2d90-422b-9ec0-5d8ec3538eb0
DTSTAMP:20260423T133414Z
DESCRIPTION:Annual Holiday Party sponsored by The Knights of Columbus of So
 uth Attleboro.
DTSTART;TZID=America/New_York:20181201T180000
DTEND;TZID=America/New_York:20181201T220000
LOCATION:Elks Lodge\, Attleboro
SUMMARY:Holiday Party
END:VEVENT
END:VCALENDAR
