BEGIN:VCALENDAR
VERSION:2.0
PRODID:-//www.arcnbc.org//NONSGML kigkonsult.se iCalcreator 2.30.10//
CALSCALE:GREGORIAN
METHOD:PUBLISH
UID:98dc98d5-6bcf-4316-8c99-6ac0f5f6f399
X-WR-CALDESC:We can enjoy breakfast together and get some gifts for loved o
 nes.
X-WR-RELCALID:6870055e0b9b486b528217f30b58233e
X-WR-TIMEZONE:America/New_York
BEGIN:VTIMEZONE
TZID:America/New_York
BEGIN:STANDARD
TZNAME:EST
DTSTART:20181104T020000
TZOFFSETFROM:-0400
TZOFFSETTO:-0500
RDATE:20191103T020000
END:STANDARD
BEGIN:DAYLIGHT
TZNAME:EDT
DTSTART:20180311T020000
TZOFFSETFROM:-0500
TZOFFSETTO:-0400
RDATE:20190310T020000
RDATE:20200308T020000
END:DAYLIGHT
END:VTIMEZONE
BEGIN:VEVENT
UID:f6c6b003-d1ad-4afc-8f98-47cb5c5e54b2
DTSTAMP:20260423T133621Z
DESCRIPTION:We can enjoy breakfast together and get some gifts for loved on
 es.
DTSTART;TZID=America/New_York:20181208T100000
DTEND;TZID=America/New_York:20181208T170000
LOCATION:Emerald Square Mall
SUMMARY:Breakfast & Holiday Shopping
END:VEVENT
END:VCALENDAR
