BEGIN:VCALENDAR
VERSION:2.0
PRODID:-//www.arcnbc.org//NONSGML kigkonsult.se iCalcreator 2.30.10//
CALSCALE:GREGORIAN
METHOD:PUBLISH
UID:d06fb900-fd64-4329-9abe-5b298edbdc65
X-WR-CALDESC:
X-WR-RELCALID:0074f7547eb410c6a4c555dbd415da0d
X-WR-TIMEZONE:America/New_York
BEGIN:VTIMEZONE
TZID:America/New_York
BEGIN:STANDARD
TZNAME:EST
DTSTART:20181104T020000
TZOFFSETFROM:-0400
TZOFFSETTO:-0500
RDATE:20191103T020000
END:STANDARD
BEGIN:DAYLIGHT
TZNAME:EDT
DTSTART:20180311T020000
TZOFFSETFROM:-0500
TZOFFSETTO:-0400
RDATE:20190310T020000
RDATE:20200308T020000
END:DAYLIGHT
END:VTIMEZONE
BEGIN:VEVENT
UID:93f21d8b-160b-4ad5-8eef-fd6b61aaf66e
DTSTAMP:20260423T151435Z
DESCRIPTION:
DTSTART;TZID=America/New_York:20181210T163000
DTEND;TZID=America/New_York:20181210T203000
LOCATION:Attleboro\, MA
SUMMARY:La Salette Shrine & Dinner
END:VEVENT
END:VCALENDAR
