BEGIN:VCALENDAR
VERSION:2.0
PRODID:-//www.arcnbc.org//NONSGML kigkonsult.se iCalcreator 2.30.10//
CALSCALE:GREGORIAN
METHOD:PUBLISH
UID:59198819-da06-4d18-a091-ec2557b54e43
X-WR-CALDESC:
X-WR-RELCALID:815329e34cb7f2c2a25ace5930deb8f4
X-WR-TIMEZONE:America/New_York
BEGIN:VTIMEZONE
TZID:America/New_York
BEGIN:STANDARD
TZNAME:EST
DTSTART:20181104T020000
TZOFFSETFROM:-0400
TZOFFSETTO:-0500
RDATE:20191103T020000
END:STANDARD
BEGIN:DAYLIGHT
TZNAME:EDT
DTSTART:20180311T020000
TZOFFSETFROM:-0500
TZOFFSETTO:-0400
RDATE:20190310T020000
RDATE:20200308T020000
END:DAYLIGHT
END:VTIMEZONE
BEGIN:VEVENT
UID:7c47cb58-d625-4a95-aa01-4eaf7a767bbe
DTSTAMP:20260423T133348Z
DESCRIPTION:
DTSTART;TZID=America/New_York:20181213T090000
DTEND;TZID=America/New_York:20181213T160000
LOCATION:Smithfield office
SUMMARY:NCI\, Smithfield office
END:VEVENT
END:VCALENDAR
