BEGIN:VCALENDAR
VERSION:2.0
PRODID:-//www.arcnbc.org//NONSGML kigkonsult.se iCalcreator 2.30.10//
CALSCALE:GREGORIAN
METHOD:PUBLISH
UID:c685146a-7af2-46f6-be86-0d26e1184549
X-WR-CALDESC:We will be hopping on a bus with Conway Tours for a day trip t
 o see the Portland Symphony Orchestra along with a lunch buffet.  please s
 ee link below.
X-WR-RELCALID:6764b1efd70094c605be1fba408ee459
X-WR-TIMEZONE:America/New_York
BEGIN:VTIMEZONE
TZID:America/New_York
BEGIN:STANDARD
TZNAME:EST
DTSTART:20181104T020000
TZOFFSETFROM:-0400
TZOFFSETTO:-0500
RDATE:20191103T020000
END:STANDARD
BEGIN:DAYLIGHT
TZNAME:EDT
DTSTART:20180311T020000
TZOFFSETFROM:-0500
TZOFFSETTO:-0400
RDATE:20190310T020000
RDATE:20200308T020000
END:DAYLIGHT
END:VTIMEZONE
BEGIN:VEVENT
UID:31098879-890d-4648-a457-cdb2cc34cb6e
DTSTAMP:20260423T133846Z
DESCRIPTION:We will be hopping on a bus with Conway Tours for a day trip to
  see the Portland Symphony Orchestra along with a lunch buffet.  please se
 e link below.
DTSTART;TZID=America/New_York:20181214T070000
DTEND;TZID=America/New_York:20181214T210000
LOCATION:Portland\, ME
SUMMARY:Portland Symphony Orchestra & Dinner
END:VEVENT
END:VCALENDAR
