BEGIN:VCALENDAR
VERSION:2.0
PRODID:-//www.arcnbc.org//NONSGML kigkonsult.se iCalcreator 2.30.10//
CALSCALE:GREGORIAN
METHOD:PUBLISH
UID:e52fd55e-d5d2-4e8d-b307-6da8ed263587
X-WR-CALDESC:
X-WR-RELCALID:e491a8031007107b83f777a25d706a70
X-WR-TIMEZONE:America/New_York
BEGIN:VTIMEZONE
TZID:America/New_York
BEGIN:STANDARD
TZNAME:EST
DTSTART:20181104T020000
TZOFFSETFROM:-0400
TZOFFSETTO:-0500
RDATE:20191103T020000
END:STANDARD
BEGIN:DAYLIGHT
TZNAME:EDT
DTSTART:20180311T020000
TZOFFSETFROM:-0500
TZOFFSETTO:-0400
RDATE:20190310T020000
RDATE:20200308T020000
END:DAYLIGHT
END:VTIMEZONE
BEGIN:VEVENT
UID:76dfc1a9-95af-4473-bfc9-45701f3446da
DTSTAMP:20260423T133346Z
DESCRIPTION:
DTSTART;TZID=America/New_York:20181215T090000
DTEND;TZID=America/New_York:20181215T160000
LOCATION:proAbility office
SUMMARY:NCI Smithfield office
END:VEVENT
END:VCALENDAR
