BEGIN:VCALENDAR
VERSION:2.0
PRODID:-//www.arcnbc.org//NONSGML kigkonsult.se iCalcreator 2.30.10//
CALSCALE:GREGORIAN
METHOD:PUBLISH
UID:22bd2b3c-960e-472d-8eaa-5651bfa9efa0
X-WR-CALDESC:We will spend the day tubing at Nashoba Valley Ski Area.  Plea
 se see link below.
X-WR-RELCALID:83a8586ebdf54f4f201592424568cc90
X-WR-TIMEZONE:America/New_York
BEGIN:VTIMEZONE
TZID:America/New_York
BEGIN:STANDARD
TZNAME:EST
DTSTART:20181104T020000
TZOFFSETFROM:-0400
TZOFFSETTO:-0500
RDATE:20191103T020000
END:STANDARD
BEGIN:DAYLIGHT
TZNAME:EDT
DTSTART:20180311T020000
TZOFFSETFROM:-0500
TZOFFSETTO:-0400
RDATE:20190310T020000
RDATE:20200308T020000
END:DAYLIGHT
END:VTIMEZONE
BEGIN:VEVENT
UID:93f56c13-b7d9-4cf4-918f-e20fa6569b5d
DTSTAMP:20260423T134157Z
DESCRIPTION:We will spend the day tubing at Nashoba Valley Ski Area.  Pleas
 e see link below.
DTSTART;TZID=America/New_York:20181215T110000
DTEND;TZID=America/New_York:20181215T170000
LOCATION:Nashoba Valley in Conn.
SUMMARY:Snow Tubing at Nashoba Valley
END:VEVENT
END:VCALENDAR
