BEGIN:VCALENDAR
VERSION:2.0
PRODID:-//www.arcnbc.org//NONSGML kigkonsult.se iCalcreator 2.30.10//
CALSCALE:GREGORIAN
METHOD:PUBLISH
UID:22d4b81b-c578-4fee-b137-5bf7f5ba8aea
X-WR-CALDESC:We will have a Mexican dinner at El Mariachi and see the light
 s on Taunton Green.  The link below is to the restaurant where we will hav
 e dinner.
X-WR-RELCALID:2399c06ea0bb98776bf6cbbab5f5702b
X-WR-TIMEZONE:America/New_York
BEGIN:VTIMEZONE
TZID:America/New_York
BEGIN:STANDARD
TZNAME:EST
DTSTART:20181104T020000
TZOFFSETFROM:-0400
TZOFFSETTO:-0500
RDATE:20191103T020000
END:STANDARD
BEGIN:DAYLIGHT
TZNAME:EDT
DTSTART:20180311T020000
TZOFFSETFROM:-0500
TZOFFSETTO:-0400
RDATE:20190310T020000
RDATE:20200308T020000
END:DAYLIGHT
END:VTIMEZONE
BEGIN:VEVENT
UID:f4aa4367-7d2d-43d2-be32-841b23558811
DTSTAMP:20260423T133145Z
DESCRIPTION:We will have a Mexican dinner at El Mariachi and see the lights
  on Taunton Green.  The link below is to the restaurant where we will have
  dinner.
DTSTART;TZID=America/New_York:20181217T163000
DTEND;TZID=America/New_York:20181217T203000
LOCATION:Taunton Green\, Taunton Mass
SUMMARY:Dinner & Holiday Lights
END:VEVENT
END:VCALENDAR
