BEGIN:VCALENDAR
VERSION:2.0
PRODID:-//www.arcnbc.org//NONSGML kigkonsult.se iCalcreator 2.30.10//
CALSCALE:GREGORIAN
METHOD:PUBLISH
UID:e911ceb4-8cfd-4a8d-bcb3-dab7183e0c15
X-WR-CALDESC:
X-WR-RELCALID:0cc59e15d4a9b1d3e525dd61df58bd1d
X-WR-TIMEZONE:America/New_York
BEGIN:VTIMEZONE
TZID:America/New_York
BEGIN:STANDARD
TZNAME:EST
DTSTART:20181104T020000
TZOFFSETFROM:-0400
TZOFFSETTO:-0500
RDATE:20191103T020000
END:STANDARD
BEGIN:DAYLIGHT
TZNAME:EDT
DTSTART:20180311T020000
TZOFFSETFROM:-0500
TZOFFSETTO:-0400
RDATE:20190310T020000
RDATE:20200308T020000
END:DAYLIGHT
END:VTIMEZONE
BEGIN:VEVENT
UID:9f3fc7aa-eff9-4fac-b946-a8e832215563
DTSTAMP:20260423T134033Z
DESCRIPTION:
DTSTART;TZID=America/New_York:20181218T090000
DTEND;TZID=America/New_York:20181218T160000
LOCATION:New Bedford office
SUMMARY:First Aid/CPR\, New Bedford office
END:VEVENT
END:VCALENDAR
