BEGIN:VCALENDAR
VERSION:2.0
PRODID:-//www.arcnbc.org//NONSGML kigkonsult.se iCalcreator 2.30.10//
CALSCALE:GREGORIAN
METHOD:PUBLISH
UID:7a2b8139-81b3-4430-bc25-7fa086fdec6d
X-WR-CALDESC:
X-WR-RELCALID:820f77c28e8f81b6b040e094a29668bd
X-WR-TIMEZONE:America/New_York
BEGIN:VTIMEZONE
TZID:America/New_York
BEGIN:STANDARD
TZNAME:EST
DTSTART:20181104T020000
TZOFFSETFROM:-0400
TZOFFSETTO:-0500
RDATE:20191103T020000
END:STANDARD
BEGIN:DAYLIGHT
TZNAME:EDT
DTSTART:20180311T020000
TZOFFSETFROM:-0500
TZOFFSETTO:-0400
RDATE:20190310T020000
RDATE:20200308T020000
END:DAYLIGHT
END:VTIMEZONE
BEGIN:VEVENT
UID:162b8fc6-4b1e-4f24-a9f8-fc0df3ab5ee2
DTSTAMP:20260423T133225Z
DESCRIPTION:
DTSTART;TZID=America/New_York:20181221T100000
DTEND;TZID=America/New_York:20181221T160000
LOCATION:Attleboro office
SUMMARY:Orientation\, Attleboro office
END:VEVENT
END:VCALENDAR
