BEGIN:VCALENDAR
VERSION:2.0
PRODID:-//www.arcnbc.org//NONSGML kigkonsult.se iCalcreator 2.30.10//
CALSCALE:GREGORIAN
METHOD:PUBLISH
UID:2fbc0194-b3ea-4eaa-a62e-f3803e203470
X-WR-CALDESC:We will be visitng the skating center in downtown providence f
 or a day of fun on the bumper boats.  Please see link below.
X-WR-RELCALID:c58fc4f77e6357ece74d83790d83b63c
X-WR-TIMEZONE:America/New_York
BEGIN:VTIMEZONE
TZID:America/New_York
BEGIN:STANDARD
TZNAME:EST
DTSTART:20181104T020000
TZOFFSETFROM:-0400
TZOFFSETTO:-0500
RDATE:20191103T020000
END:STANDARD
BEGIN:DAYLIGHT
TZNAME:EDT
DTSTART:20180311T020000
TZOFFSETFROM:-0500
TZOFFSETTO:-0400
RDATE:20190310T020000
RDATE:20200308T020000
END:DAYLIGHT
END:VTIMEZONE
BEGIN:VEVENT
UID:66a55cb1-d13f-43d1-b651-176598d96ab6
DTSTAMP:20260423T133846Z
DESCRIPTION:We will be visitng the skating center in downtown providence fo
 r a day of fun on the bumper boats.  Please see link below.
DTSTART;TZID=America/New_York:20181222T120000
DTEND;TZID=America/New_York:20181222T160000
LOCATION:Alex and Ani Skating Center Providence\, RI
SUMMARY:Ice Bumper Cars
END:VEVENT
END:VCALENDAR
