BEGIN:VCALENDAR
VERSION:2.0
PRODID:-//www.arcnbc.org//NONSGML kigkonsult.se iCalcreator 2.30.10//
CALSCALE:GREGORIAN
METHOD:PUBLISH
UID:0ec2e7fa-3509-4e62-a44c-e8e4d4629be3
X-WR-CALDESC:Once monthly Ted and Fran host a dance.  This dance is for the
  people we support as well as people form other agencies providing support
 s for a night of fun.  They usually provide a light snack\,  and there is 
 always a DJ for dancing.  $3.00 at the door.
X-WR-RELCALID:b1ef5ebf4d991bdbf50714354a780ed7
X-WR-TIMEZONE:America/New_York
BEGIN:VTIMEZONE
TZID:America/New_York
BEGIN:STANDARD
TZNAME:EST
DTSTART:20181104T020000
TZOFFSETFROM:-0400
TZOFFSETTO:-0500
RDATE:20191103T020000
END:STANDARD
BEGIN:DAYLIGHT
TZNAME:EDT
DTSTART:20180311T020000
TZOFFSETFROM:-0500
TZOFFSETTO:-0400
RDATE:20190310T020000
RDATE:20200308T020000
END:DAYLIGHT
END:VTIMEZONE
BEGIN:VEVENT
UID:fb2a941f-c9b6-4600-a0f3-004f4e99a4c6
DTSTAMP:20260423T133847Z
DESCRIPTION:Once monthly Ted and Fran host a dance.  This dance is for the 
 people we support as well as people form other agencies providing supports
  for a night of fun.  They usually provide a light snack\,  and there is a
 lways a DJ for dancing.  $3.00 at the door.
DTSTART;TZID=America/New_York:20181227T180000
DTEND;TZID=America/New_York:20181227T210000
LOCATION:PPAC175 School St\, Taunton\, MA 02780
SUMMARY:Fran's Dance
END:VEVENT
END:VCALENDAR
