BEGIN:VCALENDAR
VERSION:2.0
PRODID:-//www.arcnbc.org//NONSGML kigkonsult.se iCalcreator 2.30.10//
CALSCALE:GREGORIAN
METHOD:PUBLISH
UID:b21ba11f-5a52-4f76-ab0e-d6dfbbae4743
X-WR-CALDESC:
X-WR-RELCALID:6bad1fb364f490542e5b36ff0b147e34
X-WR-TIMEZONE:America/New_York
BEGIN:VTIMEZONE
TZID:America/New_York
BEGIN:STANDARD
TZNAME:EST
DTSTART:20181104T020000
TZOFFSETFROM:-0400
TZOFFSETTO:-0500
RDATE:20191103T020000
END:STANDARD
BEGIN:DAYLIGHT
TZNAME:EDT
DTSTART:20180311T020000
TZOFFSETFROM:-0500
TZOFFSETTO:-0400
RDATE:20190310T020000
RDATE:20200308T020000
END:DAYLIGHT
END:VTIMEZONE
BEGIN:VEVENT
UID:d8090943-3beb-4ba2-8149-9d188311e8f3
DTSTAMP:20260423T133346Z
DESCRIPTION:
DTSTART;TZID=America/New_York:20181228T090000
DTEND;TZID=America/New_York:20181228T160000
LOCATION:Attleboro office
SUMMARY:NCI\, Attleboro office
END:VEVENT
END:VCALENDAR
