BEGIN:VCALENDAR
VERSION:2.0
PRODID:-//www.arcnbc.org//NONSGML kigkonsult.se iCalcreator 2.30.10//
CALSCALE:GREGORIAN
METHOD:PUBLISH
UID:70c00205-2614-4269-8a85-ebe0440a9e01
X-WR-CALDESC:This is a chance for all to get together talk about and discus
 s advocating for ourselves.  We can also talk about events we would like t
 o see on our Recreation calendars.  We will then enjoy dinner together\, e
 veryone pitches in.  We would like to see people we support facilitate som
 e meetings\, as well as guest speakers to come in.  Please fell free to re
 ach out to me if you know anyone who would like to speak\, and be a part o
 f our Self Advocacy group.  We will meet once a month year round.
X-WR-RELCALID:ce30f2f5c9fde50d3957084e26e9cd98
X-WR-TIMEZONE:America/New_York
BEGIN:VTIMEZONE
TZID:America/New_York
BEGIN:STANDARD
TZNAME:EST
DTSTART:20181104T020000
TZOFFSETFROM:-0400
TZOFFSETTO:-0500
RDATE:20191103T020000
END:STANDARD
BEGIN:DAYLIGHT
TZNAME:EDT
DTSTART:20180311T020000
TZOFFSETFROM:-0500
TZOFFSETTO:-0400
RDATE:20190310T020000
RDATE:20200308T020000
END:DAYLIGHT
END:VTIMEZONE
BEGIN:VEVENT
UID:3df24059-021a-40e7-9909-cd4e3649d0e8
DTSTAMP:20260423T120447Z
DESCRIPTION:This is a chance for all to get together talk about and discuss
  advocating for ourselves.  We can also talk about events we would like to
  see on our Recreation calendars.  We will then enjoy dinner together\, ev
 eryone pitches in.  We would like to see people we support facilitate some
  meetings\, as well as guest speakers to come in.  Please fell free to rea
 ch out to me if you know anyone who would like to speak\, and be a part of
  our Self Advocacy group.  We will meet once a month year round.
DTSTART;TZID=America/New_York:20190103T150000
DTEND;TZID=America/New_York:20190103T173000
LOCATION:141 Park St. Attleboro
SUMMARY:Self Advocacy & Dinner
END:VEVENT
END:VCALENDAR
