BEGIN:VCALENDAR
VERSION:2.0
PRODID:-//www.arcnbc.org//NONSGML kigkonsult.se iCalcreator 2.30.10//
CALSCALE:GREGORIAN
METHOD:PUBLISH
UID:2eb78354-3542-40c3-bd41-e16a88587471
X-WR-CALDESC:We will be going out to dinner at Chan's restaurant (Chan's is
  an Asian restaurant) and then to Stadium Theater to watch The Three Stoog
 es movie.  I have attached both links below for both the theater and Chan'
 s restaurant.
X-WR-RELCALID:0f1fe3b87e7aaf7e7b9e0f147af2e116
X-WR-TIMEZONE:America/New_York
BEGIN:VTIMEZONE
TZID:America/New_York
BEGIN:STANDARD
TZNAME:EST
DTSTART:20181104T020000
TZOFFSETFROM:-0400
TZOFFSETTO:-0500
RDATE:20191103T020000
END:STANDARD
BEGIN:DAYLIGHT
TZNAME:EDT
DTSTART:20180311T020000
TZOFFSETFROM:-0500
TZOFFSETTO:-0400
RDATE:20190310T020000
RDATE:20200308T020000
END:DAYLIGHT
END:VTIMEZONE
BEGIN:VEVENT
UID:2d64c1ef-3fdd-4e91-9d3a-81d07bf14905
DTSTAMP:20260423T120112Z
DESCRIPTION:We will be going out to dinner at Chan's restaurant (Chan's is 
 an Asian restaurant) and then to Stadium Theater to watch The Three Stooge
 s movie.  I have attached both links below for both the theater and Chan's
  restaurant.
DTSTART;TZID=America/New_York:20190104T170000
DTEND;TZID=America/New_York:20190104T213000
LOCATION:The Stadium Theater
SUMMARY:Dinner & Movie
END:VEVENT
END:VCALENDAR
