BEGIN:VCALENDAR
VERSION:2.0
PRODID:-//www.arcnbc.org//NONSGML kigkonsult.se iCalcreator 2.30.10//
CALSCALE:GREGORIAN
METHOD:PUBLISH
UID:5cd68a6c-e8c5-4bb3-9482-61cb2333f763
X-WR-CALDESC:Weekly Bowling event.
X-WR-RELCALID:f31e693d7d187413ea61010fb01a6294
X-WR-TIMEZONE:America/New_York
BEGIN:VTIMEZONE
TZID:America/New_York
BEGIN:STANDARD
TZNAME:EST
DTSTART:20181104T020000
TZOFFSETFROM:-0400
TZOFFSETTO:-0500
RDATE:20191103T020000
END:STANDARD
BEGIN:DAYLIGHT
TZNAME:EDT
DTSTART:20180311T020000
TZOFFSETFROM:-0500
TZOFFSETTO:-0400
RDATE:20190310T020000
RDATE:20200308T020000
END:DAYLIGHT
END:VTIMEZONE
BEGIN:VEVENT
UID:120d8589-9052-4016-89cc-fbb304671f10
DTSTAMP:20260423T120224Z
DESCRIPTION:Weekly Bowling event.
DTSTART;TZID=America/New_York:20190108T180000
DTEND;TZID=America/New_York:20190108T200000
LOCATION:East Providence Lanes
SUMMARY:Bowling
END:VEVENT
END:VCALENDAR
