BEGIN:VCALENDAR
VERSION:2.0
PRODID:-//www.arcnbc.org//NONSGML kigkonsult.se iCalcreator 2.30.10//
CALSCALE:GREGORIAN
METHOD:PUBLISH
UID:e62609ce-574d-453b-ad42-857bb1ea262a
X-WR-CALDESC:We will be taking another trip to Round One at Silver City Gal
 leria.  There is games\, bowling and karaoke rooms.  Everyone always has a
  great time.
X-WR-RELCALID:c0819e7dd1e869557f17ddba98c4edde
X-WR-TIMEZONE:America/New_York
BEGIN:VTIMEZONE
TZID:America/New_York
BEGIN:STANDARD
TZNAME:EST
DTSTART:20181104T020000
TZOFFSETFROM:-0400
TZOFFSETTO:-0500
RDATE:20191103T020000
END:STANDARD
BEGIN:DAYLIGHT
TZNAME:EDT
DTSTART:20180311T020000
TZOFFSETFROM:-0500
TZOFFSETTO:-0400
RDATE:20190310T020000
RDATE:20200308T020000
END:DAYLIGHT
END:VTIMEZONE
BEGIN:VEVENT
UID:ca8612d5-848e-4358-948e-0bc8c93446f8
DTSTAMP:20260423T115928Z
DESCRIPTION:We will be taking another trip to Round One at Silver City Gall
 eria.  There is games\, bowling and karaoke rooms.  Everyone always has a 
 great time.
DTSTART;TZID=America/New_York:20190109T170000
DTEND;TZID=America/New_York:20190109T180000
LOCATION:Round One Silver City Galleria
SUMMARY:Round One
END:VEVENT
END:VCALENDAR
