BEGIN:VCALENDAR
VERSION:2.0
PRODID:-//www.arcnbc.org//NONSGML kigkonsult.se iCalcreator 2.30.10//
CALSCALE:GREGORIAN
METHOD:PUBLISH
UID:baf3b6c2-6d35-42f7-b1cb-46618afe8df9
X-WR-CALDESC:
X-WR-RELCALID:04bb27a5b00e135f212b2f9ee5add880
X-WR-TIMEZONE:America/New_York
BEGIN:VTIMEZONE
TZID:America/New_York
BEGIN:STANDARD
TZNAME:EST
DTSTART:20181104T020000
TZOFFSETFROM:-0400
TZOFFSETTO:-0500
RDATE:20191103T020000
END:STANDARD
BEGIN:DAYLIGHT
TZNAME:EDT
DTSTART:20180311T020000
TZOFFSETFROM:-0500
TZOFFSETTO:-0400
RDATE:20190310T020000
RDATE:20200308T020000
END:DAYLIGHT
END:VTIMEZONE
BEGIN:VEVENT
UID:efc254e3-d9e1-4bfe-af94-e47daec7ffdf
DTSTAMP:20260423T115918Z
DESCRIPTION:
DTSTART;TZID=America/New_York:20190110T090000
DTEND;TZID=America/New_York:20190110T150000
LOCATION:16 Hillside Ave.
SUMMARY:First Aid/CPR
END:VEVENT
END:VCALENDAR
