BEGIN:VCALENDAR
VERSION:2.0
PRODID:-//www.arcnbc.org//NONSGML kigkonsult.se iCalcreator 2.30.10//
CALSCALE:GREGORIAN
METHOD:PUBLISH
UID:2ee88359-e947-4c4b-8bac-7b62576001c0
X-WR-CALDESC:
X-WR-RELCALID:30adbaaa6644fa48a51ad45677a129d7
X-WR-TIMEZONE:America/New_York
BEGIN:VTIMEZONE
TZID:America/New_York
BEGIN:STANDARD
TZNAME:EST
DTSTART:20181104T020000
TZOFFSETFROM:-0400
TZOFFSETTO:-0500
RDATE:20191103T020000
END:STANDARD
BEGIN:DAYLIGHT
TZNAME:EDT
DTSTART:20180311T020000
TZOFFSETFROM:-0500
TZOFFSETTO:-0400
RDATE:20190310T020000
RDATE:20200308T020000
END:DAYLIGHT
END:VTIMEZONE
BEGIN:VEVENT
UID:391a88c3-1728-440e-964d-d1acd8bdbfb8
DTSTAMP:20260423T115756Z
DESCRIPTION:
DTSTART;TZID=America/New_York:20190111T090000
DTEND;TZID=America/New_York:20190111T160000
LOCATION:16 Hillside Ave
SUMMARY:NCI
END:VEVENT
END:VCALENDAR
