BEGIN:VCALENDAR
VERSION:2.0
PRODID:-//www.arcnbc.org//NONSGML kigkonsult.se iCalcreator 2.30.10//
CALSCALE:GREGORIAN
METHOD:PUBLISH
UID:71bd61bb-93be-436f-a102-4bf58bb6a67c
X-WR-CALDESC:We will be having dinner and going to see some local wrestlers
  up close and personal.
X-WR-RELCALID:f7d920b5f637687cab77992392968fb2
X-WR-TIMEZONE:America/New_York
BEGIN:VTIMEZONE
TZID:America/New_York
BEGIN:STANDARD
TZNAME:EST
DTSTART:20181104T020000
TZOFFSETFROM:-0400
TZOFFSETTO:-0500
RDATE:20191103T020000
END:STANDARD
BEGIN:DAYLIGHT
TZNAME:EDT
DTSTART:20180311T020000
TZOFFSETFROM:-0500
TZOFFSETTO:-0400
RDATE:20190310T020000
RDATE:20200308T020000
END:DAYLIGHT
END:VTIMEZONE
BEGIN:VEVENT
UID:e0952a42-73d0-4656-86d3-de5aa9bfbeb5
DTSTAMP:20260423T120956Z
DESCRIPTION:We will be having dinner and going to see some local wrestlers 
 up close and personal.
DTSTART;TZID=America/New_York:20190112T163000
DTEND;TZID=America/New_York:20190112T213000
LOCATION:Taunton\, MA
SUMMARY:Taunton Local Wrestling
END:VEVENT
END:VCALENDAR
