BEGIN:VCALENDAR
VERSION:2.0
PRODID:-//www.arcnbc.org//NONSGML kigkonsult.se iCalcreator 2.30.10//
CALSCALE:GREGORIAN
METHOD:PUBLISH
UID:88d7bb91-5714-4671-ad84-e4a9f041e57f
X-WR-CALDESC:We will be having dinner at your choice in the mall food court
 .  Then we will head down to Round One.  They offer private karaoke rooms\
 , pool\, arcade games and even bowling.  This is a big hit on the events c
 alendar.
X-WR-RELCALID:819af23a9ff1bd7d05a20c0c5580b94d
X-WR-TIMEZONE:America/New_York
BEGIN:VTIMEZONE
TZID:America/New_York
BEGIN:STANDARD
TZNAME:EST
DTSTART:20181104T020000
TZOFFSETFROM:-0400
TZOFFSETTO:-0500
RDATE:20191103T020000
END:STANDARD
BEGIN:DAYLIGHT
TZNAME:EDT
DTSTART:20180311T020000
TZOFFSETFROM:-0500
TZOFFSETTO:-0400
RDATE:20190310T020000
RDATE:20200308T020000
END:DAYLIGHT
END:VTIMEZONE
BEGIN:VEVENT
UID:86b4f134-6bd4-41c6-a485-8c3881bf1465
DTSTAMP:20260423T115920Z
DESCRIPTION:We will be having dinner at your choice in the mall food court.
   Then we will head down to Round One.  They offer private karaoke rooms\,
  pool\, arcade games and even bowling.  This is a big hit on the events ca
 lendar.
DTSTART;TZID=America/New_York:20190114T170000
DTEND;TZID=America/New_York:20190114T210000
LOCATION:Silver City Galleria Taunton\, MA
SUMMARY:Round One
END:VEVENT
END:VCALENDAR
