BEGIN:VCALENDAR
VERSION:2.0
PRODID:-//www.arcnbc.org//NONSGML kigkonsult.se iCalcreator 2.30.10//
CALSCALE:GREGORIAN
METHOD:PUBLISH
UID:9814a4db-fe54-41b4-8694-88169b3f5247
X-WR-CALDESC:
X-WR-RELCALID:0744e553f1c245f290432bae658341ec
X-WR-TIMEZONE:America/New_York
BEGIN:VTIMEZONE
TZID:America/New_York
BEGIN:STANDARD
TZNAME:EST
DTSTART:20181104T020000
TZOFFSETFROM:-0400
TZOFFSETTO:-0500
RDATE:20191103T020000
END:STANDARD
BEGIN:DAYLIGHT
TZNAME:EDT
DTSTART:20180311T020000
TZOFFSETFROM:-0500
TZOFFSETTO:-0400
RDATE:20190310T020000
RDATE:20200308T020000
END:DAYLIGHT
END:VTIMEZONE
BEGIN:VEVENT
UID:f02eca17-53f1-4a8a-a8a6-bd8c4229daae
DTSTAMP:20260423T115754Z
DESCRIPTION:
DTSTART;TZID=America/New_York:20190118T090000
DTEND;TZID=America/New_York:20190118T160000
LOCATION:16 Hillside Ave.
SUMMARY:Orientation
END:VEVENT
END:VCALENDAR
