BEGIN:VCALENDAR
VERSION:2.0
PRODID:-//www.arcnbc.org//NONSGML kigkonsult.se iCalcreator 2.30.10//
CALSCALE:GREGORIAN
METHOD:PUBLISH
UID:d83557a9-cde2-40ed-bdf0-2474f3484cf6
X-WR-CALDESC:Weekly Bowling event.
X-WR-RELCALID:00200b07ee501fe5e3672d09e7c1f38c
X-WR-TIMEZONE:America/New_York
BEGIN:VTIMEZONE
TZID:America/New_York
BEGIN:STANDARD
TZNAME:EST
DTSTART:20181104T020000
TZOFFSETFROM:-0400
TZOFFSETTO:-0500
RDATE:20191103T020000
END:STANDARD
BEGIN:DAYLIGHT
TZNAME:EDT
DTSTART:20180311T020000
TZOFFSETFROM:-0500
TZOFFSETTO:-0400
RDATE:20190310T020000
RDATE:20200308T020000
END:DAYLIGHT
END:VTIMEZONE
BEGIN:VEVENT
UID:4143196e-dda2-4bdd-baec-0d8ddf4708b6
DTSTAMP:20260423T120401Z
DESCRIPTION:Weekly Bowling event.
DTSTART;TZID=America/New_York:20190122T180000
DTEND;TZID=America/New_York:20190122T200000
LOCATION:East Providence Lanes
SUMMARY:Bowling
END:VEVENT
END:VCALENDAR
