BEGIN:VCALENDAR
VERSION:2.0
PRODID:-//www.arcnbc.org//NONSGML kigkonsult.se iCalcreator 2.30.10//
CALSCALE:GREGORIAN
METHOD:PUBLISH
UID:25438c5e-495d-4ebf-ba42-b891909d3cf4
X-WR-CALDESC:
X-WR-RELCALID:836c26aa310bfa1b9005db7afc13037a
X-WR-TIMEZONE:America/New_York
BEGIN:VTIMEZONE
TZID:America/New_York
BEGIN:STANDARD
TZNAME:EST
DTSTART:20181104T020000
TZOFFSETFROM:-0400
TZOFFSETTO:-0500
RDATE:20191103T020000
END:STANDARD
BEGIN:DAYLIGHT
TZNAME:EDT
DTSTART:20180311T020000
TZOFFSETFROM:-0500
TZOFFSETTO:-0400
RDATE:20190310T020000
RDATE:20200308T020000
END:DAYLIGHT
END:VTIMEZONE
BEGIN:VEVENT
UID:32df6ae7-01ce-4258-8b44-e94f4cd574b0
DTSTAMP:20260423T115919Z
DESCRIPTION:
DTSTART;TZID=America/New_York:20190123T090000
DTEND;TZID=America/New_York:20190123T150000
LOCATION:412 B County St\, New Bedford\, MA
SUMMARY:First Aid/CPR
END:VEVENT
END:VCALENDAR
