BEGIN:VCALENDAR
VERSION:2.0
PRODID:-//www.arcnbc.org//NONSGML kigkonsult.se iCalcreator 2.30.10//
CALSCALE:GREGORIAN
METHOD:PUBLISH
UID:7e24b2b7-b0c0-46cb-b305-10c6185bd51b
X-WR-CALDESC:
X-WR-RELCALID:b5916b03ca5d8a1d92f4661cdc9633c2
X-WR-TIMEZONE:America/New_York
BEGIN:VTIMEZONE
TZID:America/New_York
BEGIN:STANDARD
TZNAME:EST
DTSTART:20181104T020000
TZOFFSETFROM:-0400
TZOFFSETTO:-0500
RDATE:20191103T020000
END:STANDARD
BEGIN:DAYLIGHT
TZNAME:EDT
DTSTART:20180311T020000
TZOFFSETFROM:-0500
TZOFFSETTO:-0400
RDATE:20190310T020000
RDATE:20200308T020000
END:DAYLIGHT
END:VTIMEZONE
BEGIN:VEVENT
UID:c76cdba2-3d90-471c-a6fb-72009c1467f9
DTSTAMP:20260423T120709Z
DESCRIPTION:
DTSTART;TZID=America/New_York:20190123T090000
DTEND;TZID=America/New_York:20190123T150000
LOCATION:16 Hillside Ave
SUMMARY:Safety Care Day 1
END:VEVENT
END:VCALENDAR
