BEGIN:VCALENDAR
VERSION:2.0
PRODID:-//www.arcnbc.org//NONSGML kigkonsult.se iCalcreator 2.30.10//
CALSCALE:GREGORIAN
METHOD:PUBLISH
UID:00c1dd3f-388c-433d-bf00-19598806a96f
X-WR-CALDESC:
X-WR-RELCALID:1da9d60502f0eb7b0630469ed937cdd8
X-WR-TIMEZONE:America/New_York
BEGIN:VTIMEZONE
TZID:America/New_York
BEGIN:STANDARD
TZNAME:EST
DTSTART:20181104T020000
TZOFFSETFROM:-0400
TZOFFSETTO:-0500
RDATE:20191103T020000
END:STANDARD
BEGIN:DAYLIGHT
TZNAME:EDT
DTSTART:20180311T020000
TZOFFSETFROM:-0500
TZOFFSETTO:-0400
RDATE:20190310T020000
RDATE:20200308T020000
END:DAYLIGHT
END:VTIMEZONE
BEGIN:VEVENT
UID:2540e593-4c7c-4ffe-bd54-7307d491f8b3
DTSTAMP:20260423T120402Z
DESCRIPTION:
DTSTART;TZID=America/New_York:20190124T090000
DTEND;TZID=America/New_York:20190124T150000
LOCATION:16 Hillside Ave.
SUMMARY:Safety Care Day 2
END:VEVENT
END:VCALENDAR
