BEGIN:VCALENDAR
VERSION:2.0
PRODID:-//www.arcnbc.org//NONSGML kigkonsult.se iCalcreator 2.30.10//
CALSCALE:GREGORIAN
METHOD:PUBLISH
UID:ea8b77d1-2b03-45a7-8e33-e86b6cdbcc0f
X-WR-CALDESC:We will be having dinner and then going to The Stadium theater
  for a night of The Eagles.  The show is called 'Another Tequila Sunrise'.
  Everyone can sing along and even dance a little to their favorite Eagles 
 music.   I have attached the link to the theater below.
X-WR-RELCALID:1fae57389fb6149dc18b6a2a2e8bd470
X-WR-TIMEZONE:America/New_York
BEGIN:VTIMEZONE
TZID:America/New_York
BEGIN:STANDARD
TZNAME:EST
DTSTART:20181104T020000
TZOFFSETFROM:-0400
TZOFFSETTO:-0500
RDATE:20191103T020000
END:STANDARD
BEGIN:DAYLIGHT
TZNAME:EDT
DTSTART:20180311T020000
TZOFFSETFROM:-0500
TZOFFSETTO:-0400
RDATE:20190310T020000
RDATE:20200308T020000
END:DAYLIGHT
END:VTIMEZONE
BEGIN:VEVENT
UID:f440a7b5-d73b-4e39-806d-927fca282c71
DTSTAMP:20260423T120252Z
DESCRIPTION:We will be having dinner and then going to The Stadium theater 
 for a night of The Eagles.  The show is called 'Another Tequila Sunrise'. 
 Everyone can sing along and even dance a little to their favorite Eagles m
 usic.   I have attached the link to the theater below.
DTSTART;TZID=America/New_York:20190125T180000
DTEND;TZID=America/New_York:20190125T220000
LOCATION:The Stadium Theater
SUMMARY:Eagles Tribute Band & Dinner
END:VEVENT
END:VCALENDAR
