BEGIN:VCALENDAR
VERSION:2.0
PRODID:-//www.arcnbc.org//NONSGML kigkonsult.se iCalcreator 2.30.10//
CALSCALE:GREGORIAN
METHOD:PUBLISH
UID:5e2f2c3b-602a-4956-b4ef-a5c57db927f9
X-WR-CALDESC:
X-WR-RELCALID:dc800d9d2f38ab11ca059638361327f2
X-WR-TIMEZONE:America/New_York
BEGIN:VTIMEZONE
TZID:America/New_York
BEGIN:STANDARD
TZNAME:EST
DTSTART:20181104T020000
TZOFFSETFROM:-0400
TZOFFSETTO:-0500
RDATE:20191103T020000
END:STANDARD
BEGIN:DAYLIGHT
TZNAME:EDT
DTSTART:20180311T020000
TZOFFSETFROM:-0500
TZOFFSETTO:-0400
RDATE:20190310T020000
RDATE:20200308T020000
END:DAYLIGHT
END:VTIMEZONE
BEGIN:VEVENT
UID:337d1556-f264-4e33-b3a7-c56ea54a49da
DTSTAMP:20260423T115755Z
DESCRIPTION:
DTSTART;TZID=America/New_York:20190128T090000
DTEND;TZID=America/New_York:20190128T160000
LOCATION:16 Hillside Ave
SUMMARY:NCI
END:VEVENT
END:VCALENDAR
