BEGIN:VCALENDAR
VERSION:2.0
PRODID:-//www.arcnbc.org//NONSGML kigkonsult.se iCalcreator 2.30.10//
CALSCALE:GREGORIAN
METHOD:PUBLISH
UID:57b03e7d-cc7e-479b-b049-14d493bca62f
X-WR-CALDESC:Weekly Bowling event.
X-WR-RELCALID:ef9a5addab04afe780778ccc66b6c018
X-WR-TIMEZONE:America/New_York
BEGIN:VTIMEZONE
TZID:America/New_York
BEGIN:STANDARD
TZNAME:EST
DTSTART:20181104T020000
TZOFFSETFROM:-0400
TZOFFSETTO:-0500
RDATE:20191103T020000
END:STANDARD
BEGIN:DAYLIGHT
TZNAME:EDT
DTSTART:20180311T020000
TZOFFSETFROM:-0500
TZOFFSETTO:-0400
RDATE:20190310T020000
RDATE:20200308T020000
END:DAYLIGHT
END:VTIMEZONE
BEGIN:VEVENT
UID:cb74e1f2-4d32-43a2-aab8-d94001fa855b
DTSTAMP:20260423T120223Z
DESCRIPTION:Weekly Bowling event.
DTSTART;TZID=America/New_York:20190129T180000
DTEND;TZID=America/New_York:20190129T200000
LOCATION:East Providence Lanes
SUMMARY:Bowling
END:VEVENT
END:VCALENDAR
