BEGIN:VCALENDAR
VERSION:2.0
PRODID:-//www.arcnbc.org//NONSGML kigkonsult.se iCalcreator 2.30.10//
CALSCALE:GREGORIAN
METHOD:PUBLISH
UID:5f08eab1-15d8-45fc-a766-174d87734e7f
X-WR-CALDESC:
X-WR-RELCALID:bf75477dfcd63468ff95495adddbfb6e
X-WR-TIMEZONE:America/New_York
BEGIN:VTIMEZONE
TZID:America/New_York
BEGIN:STANDARD
TZNAME:EST
DTSTART:20181104T020000
TZOFFSETFROM:-0400
TZOFFSETTO:-0500
RDATE:20191103T020000
END:STANDARD
BEGIN:DAYLIGHT
TZNAME:EDT
DTSTART:20180311T020000
TZOFFSETFROM:-0500
TZOFFSETTO:-0400
RDATE:20190310T020000
RDATE:20200308T020000
END:DAYLIGHT
END:VTIMEZONE
BEGIN:VEVENT
UID:7420039f-c377-4cb2-8f88-8ee779846a74
DTSTAMP:20260423T115918Z
DESCRIPTION:
DTSTART;TZID=America/New_York:20190129T090000
DTEND;TZID=America/New_York:20190129T150000
LOCATION:16 Hillside Ave
SUMMARY:First Aid/CPR
END:VEVENT
END:VCALENDAR
