BEGIN:VCALENDAR
VERSION:2.0
PRODID:-//www.arcnbc.org//NONSGML kigkonsult.se iCalcreator 2.30.10//
CALSCALE:GREGORIAN
METHOD:PUBLISH
UID:52e71f1e-df5b-4152-960d-8cb93a97e548
X-WR-CALDESC:We will be spending 2 nights at The Hilton Garden Hotel.  This
  hotel is about 10 minutes from the casino\, about a mile away.  They have
  a complimentary shuttle that brings us to and from Foxwoods.  We will pla
 y bingo\, visit High Rollers for some bowling\, shopping\, as well as eat 
 at some amazing restaurants in the casino.  We also have an indoor pool at
  our hotel.  A quick and fun getaway.
X-WR-RELCALID:714625afc41bc45f439cd8f09f4ce75b
X-WR-TIMEZONE:America/New_York
BEGIN:VTIMEZONE
TZID:America/New_York
BEGIN:STANDARD
TZNAME:EST
DTSTART:20181104T020000
TZOFFSETFROM:-0400
TZOFFSETTO:-0500
RDATE:20191103T020000
END:STANDARD
BEGIN:DAYLIGHT
TZNAME:EDT
DTSTART:20180311T020000
TZOFFSETFROM:-0500
TZOFFSETTO:-0400
RDATE:20190310T020000
RDATE:20200308T020000
END:DAYLIGHT
END:VTIMEZONE
BEGIN:VEVENT
UID:34372c0e-3c55-415f-a15f-58b5f62cc7b4
DTSTAMP:20260423T120112Z
DESCRIPTION:We will be spending 2 nights at The Hilton Garden Hotel.  This 
 hotel is about 10 minutes from the casino\, about a mile away.  They have 
 a complimentary shuttle that brings us to and from Foxwoods.  We will play
  bingo\, visit High Rollers for some bowling\, shopping\, as well as eat a
 t some amazing restaurants in the casino.  We also have an indoor pool at 
 our hotel.  A quick and fun getaway.
DTSTART;TZID=America/New_York:20190127T100000
DTEND;TZID=America/New_York:20190129T150000
LOCATION:Ledyard\, Conn
SUMMARY:Two Nights @ Foxwoods
END:VEVENT
END:VCALENDAR
