BEGIN:VCALENDAR
VERSION:2.0
PRODID:-//www.arcnbc.org//NONSGML kigkonsult.se iCalcreator 2.30.10//
CALSCALE:GREGORIAN
METHOD:PUBLISH
UID:6dce4feb-1bfe-42b4-8f77-f84ec5ad3703
X-WR-CALDESC:We will be having dinner and then off to see   'MJ Live: A Tri
 bute Concert to Michael Jackson'\nMichael Jackson tribute show is proud to
  feature the extremely talented Jalles Franca as one of its’ star performe
 rs! We can dance and sing to all of our Michael Jackson favorites.\n\n
X-WR-RELCALID:b128a8d198483959a3478077035f7e9d
X-WR-TIMEZONE:America/New_York
BEGIN:VTIMEZONE
TZID:America/New_York
BEGIN:STANDARD
TZNAME:EST
DTSTART:20181104T020000
TZOFFSETFROM:-0400
TZOFFSETTO:-0500
RDATE:20191103T020000
END:STANDARD
BEGIN:DAYLIGHT
TZNAME:EDT
DTSTART:20180311T020000
TZOFFSETFROM:-0500
TZOFFSETTO:-0400
RDATE:20190310T020000
RDATE:20200308T020000
END:DAYLIGHT
END:VTIMEZONE
BEGIN:VEVENT
UID:7518bcc8-af3e-4643-a12b-90246961dd34
DTSTAMP:20260423T120448Z
DESCRIPTION:We will be having dinner and then off to see   'MJ Live: A Trib
 ute Concert to Michael Jackson'\nMichael Jackson tribute show is proud to 
 feature the extremely talented Jalles Franca as one of its’ star performer
 s! We can dance and sing to all of our Michael Jackson favorites.\n\n
DTSTART;TZID=America/New_York:20190201T173000
DTEND;TZID=America/New_York:20190201T233000
LOCATION:Twin River Casino Lincoln\, RI
SUMMARY:Michael Jackson Tribute @ Twin River
END:VEVENT
END:VCALENDAR
