BEGIN:VCALENDAR
VERSION:2.0
PRODID:-//www.arcnbc.org//NONSGML kigkonsult.se iCalcreator 2.30.10//
CALSCALE:GREGORIAN
METHOD:PUBLISH
UID:30324d86-afbc-4c13-b1c1-e9d1ccdbd036
X-WR-CALDESC:We will be going to see a monster truck show.  It will be loud
 \, messy and a good time.  We will also be going for lunch afterwards.  Th
 ere is a  link below so everyone can see what the show is  all about.
X-WR-RELCALID:295656943285d20ca10e3683dedc10f1
X-WR-TIMEZONE:America/New_York
BEGIN:VTIMEZONE
TZID:America/New_York
BEGIN:STANDARD
TZNAME:EST
DTSTART:20181104T020000
TZOFFSETFROM:-0400
TZOFFSETTO:-0500
RDATE:20191103T020000
END:STANDARD
BEGIN:DAYLIGHT
TZNAME:EDT
DTSTART:20180311T020000
TZOFFSETFROM:-0500
TZOFFSETTO:-0400
RDATE:20190310T020000
RDATE:20200308T020000
END:DAYLIGHT
END:VTIMEZONE
BEGIN:VEVENT
UID:8ac6b793-0de1-479e-8861-b2913bbd9cbd
DTSTAMP:20260423T120041Z
DESCRIPTION:We will be going to see a monster truck show.  It will be loud\
 , messy and a good time.  We will also be going for lunch afterwards.  The
 re is a  link below so everyone can see what the show is  all about.
DTSTART;TZID=America/New_York:20190203T130000
DTEND;TZID=America/New_York:20190203T170000
LOCATION:Dunkin Donuts Center Providence\, RI
SUMMARY:Monster Jam
END:VEVENT
END:VCALENDAR
