BEGIN:VCALENDAR
VERSION:2.0
PRODID:-//www.arcnbc.org//NONSGML kigkonsult.se iCalcreator 2.30.10//
CALSCALE:GREGORIAN
METHOD:PUBLISH
UID:6632b12b-aa4c-4a32-9cf5-47aa55976b77
X-WR-CALDESC:Weekly Bowling event.
X-WR-RELCALID:978577081afc33220da829b9408d8a9e
X-WR-TIMEZONE:America/New_York
BEGIN:VTIMEZONE
TZID:America/New_York
BEGIN:STANDARD
TZNAME:EST
DTSTART:20181104T020000
TZOFFSETFROM:-0400
TZOFFSETTO:-0500
RDATE:20191103T020000
END:STANDARD
BEGIN:DAYLIGHT
TZNAME:EDT
DTSTART:20180311T020000
TZOFFSETFROM:-0500
TZOFFSETTO:-0400
RDATE:20190310T020000
RDATE:20200308T020000
END:DAYLIGHT
END:VTIMEZONE
BEGIN:VEVENT
UID:55a29967-8bc0-4b8a-9760-00a403b61dbd
DTSTAMP:20260423T120253Z
DESCRIPTION:Weekly Bowling event.
DTSTART;TZID=America/New_York:20190205T180000
DTEND;TZID=America/New_York:20190205T200000
LOCATION:East Providence Lanes
SUMMARY:Bowling
END:VEVENT
END:VCALENDAR
