BEGIN:VCALENDAR
VERSION:2.0
PRODID:-//www.arcnbc.org//NONSGML kigkonsult.se iCalcreator 2.30.10//
CALSCALE:GREGORIAN
METHOD:PUBLISH
UID:0b11842f-5081-40ee-9e46-6d312c019570
X-WR-CALDESC:
X-WR-RELCALID:7178cb9b994f6be2d43854388e0be2e0
X-WR-TIMEZONE:America/New_York
BEGIN:VTIMEZONE
TZID:America/New_York
BEGIN:STANDARD
TZNAME:EST
DTSTART:20181104T020000
TZOFFSETFROM:-0400
TZOFFSETTO:-0500
RDATE:20191103T020000
END:STANDARD
BEGIN:DAYLIGHT
TZNAME:EDT
DTSTART:20180311T020000
TZOFFSETFROM:-0500
TZOFFSETTO:-0400
RDATE:20190310T020000
RDATE:20200308T020000
END:DAYLIGHT
END:VTIMEZONE
BEGIN:VEVENT
UID:42642617-955b-412a-a85b-47b946c6a540
DTSTAMP:20260423T115753Z
DESCRIPTION:
DTSTART;TZID=America/New_York:20190206T090000
DTEND;TZID=America/New_York:20190206T160000
LOCATION:16 Hillside Ave
SUMMARY:Orientation
END:VEVENT
END:VCALENDAR
