BEGIN:VCALENDAR
VERSION:2.0
PRODID:-//www.arcnbc.org//NONSGML kigkonsult.se iCalcreator 2.30.10//
CALSCALE:GREGORIAN
METHOD:PUBLISH
UID:b250be00-bb5e-4333-ba81-ce84a56a5d87
X-WR-CALDESC:
X-WR-RELCALID:a03e9dfbbc8b3bfe9bf46283b8107fa6
X-WR-TIMEZONE:America/New_York
BEGIN:VTIMEZONE
TZID:America/New_York
BEGIN:STANDARD
TZNAME:EST
DTSTART:20181104T020000
TZOFFSETFROM:-0400
TZOFFSETTO:-0500
RDATE:20191103T020000
END:STANDARD
BEGIN:DAYLIGHT
TZNAME:EDT
DTSTART:20180311T020000
TZOFFSETFROM:-0500
TZOFFSETTO:-0400
RDATE:20190310T020000
RDATE:20200308T020000
END:DAYLIGHT
END:VTIMEZONE
BEGIN:VEVENT
UID:3118e7f2-7a74-4a0d-9cfa-dde4983519e3
DTSTAMP:20260423T115922Z
DESCRIPTION:
DTSTART;TZID=America/New_York:20190207T090000
DTEND;TZID=America/New_York:20190207T150000
LOCATION:16 Hillside Ave
SUMMARY:First Aid/CPR
END:VEVENT
END:VCALENDAR
