BEGIN:VCALENDAR
VERSION:2.0
PRODID:-//www.arcnbc.org//NONSGML kigkonsult.se iCalcreator 2.30.10//
CALSCALE:GREGORIAN
METHOD:PUBLISH
UID:4bb785d4-1aef-4f3d-8e70-421e32638a9b
X-WR-CALDESC:
X-WR-RELCALID:f22144db7105066110a7d4c5d488e811
X-WR-TIMEZONE:America/New_York
BEGIN:VTIMEZONE
TZID:America/New_York
BEGIN:STANDARD
TZNAME:EST
DTSTART:20181104T020000
TZOFFSETFROM:-0400
TZOFFSETTO:-0500
RDATE:20191103T020000
END:STANDARD
BEGIN:DAYLIGHT
TZNAME:EDT
DTSTART:20180311T020000
TZOFFSETFROM:-0500
TZOFFSETTO:-0400
RDATE:20190310T020000
RDATE:20200308T020000
END:DAYLIGHT
END:VTIMEZONE
BEGIN:VEVENT
UID:6478eaff-e0e9-46cf-b225-75977cab8ad6
DTSTAMP:20260423T115757Z
DESCRIPTION:
DTSTART;TZID=America/New_York:20190208T090000
DTEND;TZID=America/New_York:20190208T160000
LOCATION:16 Hillside Ave
SUMMARY:NCI
END:VEVENT
END:VCALENDAR
