BEGIN:VCALENDAR
VERSION:2.0
PRODID:-//www.arcnbc.org//NONSGML kigkonsult.se iCalcreator 2.30.10//
CALSCALE:GREGORIAN
METHOD:PUBLISH
UID:8e37ff1d-30dc-43da-88d2-ba111a8d346d
X-WR-CALDESC:16th Annual Pancake Breakfast and fundraiser hosted by The Arc
 's Taunton Resource Center.  $6.00 per Ticket\n     Raffle & Door Prizes\n
 Tickets available for purchase at the door\, or prior to event at:\nTaunto
 n Office @ 437 Bay St. Taunton\, MA 508-884-2971\nAttleboro Office @ 141 P
 ark St. Attleboro\, MA 508-226-1445\n
X-WR-RELCALID:5cb01431f9b88b4154803594a7aa696f
X-WR-TIMEZONE:America/New_York
BEGIN:VTIMEZONE
TZID:America/New_York
BEGIN:STANDARD
TZNAME:EST
DTSTART:20181104T020000
TZOFFSETFROM:-0400
TZOFFSETTO:-0500
RDATE:20191103T020000
END:STANDARD
BEGIN:DAYLIGHT
TZNAME:EDT
DTSTART:20180311T020000
TZOFFSETFROM:-0500
TZOFFSETTO:-0400
RDATE:20190310T020000
RDATE:20200308T020000
END:DAYLIGHT
END:VTIMEZONE
BEGIN:VEVENT
UID:33bd5363-a3e8-4f5a-9ea3-5ac9a0c56cc6
DTSTAMP:20260423T120112Z
DESCRIPTION:16th Annual Pancake Breakfast and fundraiser hosted by The Arc'
 s Taunton Resource Center.  $6.00 per Ticket\n     Raffle & Door Prizes\nT
 ickets available for purchase at the door\, or prior to event at:\nTaunton
  Office @ 437 Bay St. Taunton\, MA 508-884-2971\nAttleboro Office @ 141 Pa
 rk St. Attleboro\, MA 508-226-1445\n
DTSTART;TZID=America/New_York:20190209T080000
DTEND;TZID=America/New_York:20190209T110000
LOCATION:Portuguese American Civic Club\, 175 School Street\, Taunton\, MA
SUMMARY:Annual Pancake Breakfast
END:VEVENT
END:VCALENDAR
